BEGIN:VCALENDAR
VERSION:2.0
PRODID:-//wp-events-plugin.com//7.2.3.1//EN
TZID:America/Los_Angeles
X-WR-TIMEZONE:America/Los_Angeles
BEGIN:VEVENT
UID:36@directory.earthclick.net
DTSTART;TZID=America/Los_Angeles:20230930T200000
DTEND;TZID=America/Los_Angeles:20230930T220000
DTSTAMP:20230916T004140Z
URL:https://directory.earthclick.net/events/sample-event-2023-09-30/
SUMMARY:Sample Event
DESCRIPTION:Nothing Here
CATEGORIES:Civic Meeting
LOCATION:Coiner Park\, 1319 E Main St\, Cottage Grove\, OR\, 97424\, United
  States
GEO:43.796464;-123.054279
X-APPLE-STRUCTURED-LOCATION;VALUE=URI;X-ADDRESS=1319 E Main St\, Cottage Gr
 ove\, OR\, 97424\, United States;X-APPLE-RADIUS=100;X-TITLE=Coiner Park:ge
 o:43.796464,-123.054279
END:VEVENT
BEGIN:VTIMEZONE
TZID:America/Los_Angeles
X-LIC-LOCATION:America/Los_Angeles
BEGIN:DAYLIGHT
DTSTART:20230312T030000
TZOFFSETFROM:-0800
TZOFFSETTO:-0700
TZNAME:PDT
END:DAYLIGHT
END:VTIMEZONE
END:VCALENDAR